Workbook

Sheet Guests
A1: Guest Name | B1: RSVP | C1: Group | D1: Email | E1: Dietary | F1: Meal | G1: Table | H1: Seat | I1: Tags | J1: Notes
A2: Emma Johnson | B2: Yes | C2: Wedding couple | D2: emma@example.com | F2: Fish | G2: Head Table | H2: 1
A3: Noah Williams | B3: Yes | C3: Wedding couple | D3: noah@example.com | F3: Beef | G3: Head Table | H3: 2
A4: Olivia Brown | B4: Yes | C4: Johnson family | D4: olivia@example.com | E4: Gluten Free | F4: Chicken | G4: 1 | H4: 1 | I4: Family | J4: Mother of the bride
A5: James Brown | B5: Yes | C5: Johnson family | F5: Beef | G5: 1 | H5: 2 | I5: Family | J5: Plus-one of Olivia Brown
A6: Ava Williams | B6: Yes | C6: Williams family | E6: Vegetarian | F6: Veg | G6: 2 | H6: 1 | I6: Family | J6: Mother of the groom
A7: Lucas Garcia | B7: Yes | C7: College friends | E7: Nut Allergy | F7: Chicken | G7: 3 | H7: 1
A8: Mia Garcia | B8: Yes | C8: College friends | F8: Kids | G8: 3 | H8: 2 | I8: Kids | J8: Needs a high chair
A9: Ethan Miller | B9: Pending | C9: College friends
A10: Sophia Davis | B10: No | C10: Work friends | J10: Sent regrets

Sheet Tables
A1: Table | B1: Shape | C1: Seats | D1: Guests | E1: Seats left | F1: Status | H1: Summary
A2: Head Table | B2: Rectangle | C2: 10 | D2: =IF(A2="","",COUNTIFS(Guests!$G$2:$G$501,A2,Guests!$B$2:$B$501,"<>No")) -> 2 | E2: =IF(A2="","",C2-D2) -> 8 | F2: =IF(A2="","",IF(D2>C2,"Over capacity",IF(D2=C2,"Full",""))) | H2: Guests on the list | I2: =COUNTIFS(Guests!$A$2:$A$501,"<>") -> 9
A3: 1 | B3: Round | C3: 10 | D3: =IF(A3="","",COUNTIFS(Guests!$G$2:$G$501,A3,Guests!$B$2:$B$501,"<>No")) -> 2 | E3: =IF(A3="","",C3-D3) -> 8 | F3: =IF(A3="","",IF(D3>C3,"Over capacity",IF(D3=C3,"Full",""))) | H3: RSVP yes | I3: =COUNTIF(Guests!$B$2:$B$501,"Yes") -> 7
A4: 2 | B4: Round | C4: 10 | D4: =IF(A4="","",COUNTIFS(Guests!$G$2:$G$501,A4,Guests!$B$2:$B$501,"<>No")) -> 1 | E4: =IF(A4="","",C4-D4) -> 9 | F4: =IF(A4="","",IF(D4>C4,"Over capacity",IF(D4=C4,"Full",""))) | H4: RSVP pending | I4: =COUNTIF(Guests!$B$2:$B$501,"Pending") -> 1
A5: 3 | B5: Round | C5: 10 | D5: =IF(A5="","",COUNTIFS(Guests!$G$2:$G$501,A5,Guests!$B$2:$B$501,"<>No")) -> 2 | E5: =IF(A5="","",C5-D5) -> 8 | F5: =IF(A5="","",IF(D5>C5,"Over capacity",IF(D5=C5,"Full",""))) | H5: RSVP no | I5: =COUNTIF(Guests!$B$2:$B$501,"No") -> 1
A6: 4 | B6: Round | C6: 10 | D6: =IF(A6="","",COUNTIFS(Guests!$G$2:$G$501,A6,Guests!$B$2:$B$501,"<>No")) -> 0 | E6: =IF(A6="","",C6-D6) -> 10 | F6: =IF(A6="","",IF(D6>C6,"Over capacity",IF(D6=C6,"Full",""))) | H6: Total seats | I6: =SUM(C2:C61) -> 150
A7: 5 | B7: Round | C7: 10 | D7: =IF(A7="","",COUNTIFS(Guests!$G$2:$G$501,A7,Guests!$B$2:$B$501,"<>No")) -> 0 | E7: =IF(A7="","",C7-D7) -> 10 | F7: =IF(A7="","",IF(D7>C7,"Over capacity",IF(D7=C7,"Full",""))) | H7: Guests with a table | I7: =SUM(D2:D61) -> 7
A8: 6 | B8: Round | C8: 10 | D8: =IF(A8="","",COUNTIFS(Guests!$G$2:$G$501,A8,Guests!$B$2:$B$501,"<>No")) -> 0 | E8: =IF(A8="","",C8-D8) -> 10 | F8: =IF(A8="","",IF(D8>C8,"Over capacity",IF(D8=C8,"Full",""))) | H8: Guests still to seat | I8: =COUNTIFS(Guests!$A$2:$A$501,"<>",Guests!$G$2:$G$501,"",Guests!$B$2:$B$501,"<>No") -> 1
A9: 7 | B9: Round | C9: 10 | D9: =IF(A9="","",COUNTIFS(Guests!$G$2:$G$501,A9,Guests!$B$2:$B$501,"<>No")) -> 0 | E9: =IF(A9="","",C9-D9) -> 10 | F9: =IF(A9="","",IF(D9>C9,"Over capacity",IF(D9=C9,"Full","")))
A10: 8 | B10: Round | C10: 10 | D10: =IF(A10="","",COUNTIFS(Guests!$G$2:$G$501,A10,Guests!$B$2:$B$501,"<>No")) -> 0 | E10: =IF(A10="","",C10-D10) -> 10 | F10: =IF(A10="","",IF(D10>C10,"Over capacity",IF(D10=C10,"Full","")))
A11: 9 | B11: Round | C11: 10 | D11: =IF(A11="","",COUNTIFS(Guests!$G$2:$G$501,A11,Guests!$B$2:$B$501,"<>No")) -> 0 | E11: =IF(A11="","",C11-D11) -> 10 | F11: =IF(A11="","",IF(D11>C11,"Over capacity",IF(D11=C11,"Full","")))
A12: 10 | B12: Round | C12: 10 | D12: =IF(A12="","",COUNTIFS(Guests!$G$2:$G$501,A12,Guests!$B$2:$B$501,"<>No")) -> 0 | E12: =IF(A12="","",C12-D12) -> 10 | F12: =IF(A12="","",IF(D12>C12,"Over capacity",IF(D12=C12,"Full","")))
A13: 11 | B13: Round | C13: 10 | D13: =IF(A13="","",COUNTIFS(Guests!$G$2:$G$501,A13,Guests!$B$2:$B$501,"<>No")) -> 0 | E13: =IF(A13="","",C13-D13) -> 10 | F13: =IF(A13="","",IF(D13>C13,"Over capacity",IF(D13=C13,"Full","")))
A14: 12 | B14: Round | C14: 10 | D14: =IF(A14="","",COUNTIFS(Guests!$G$2:$G$501,A14,Guests!$B$2:$B$501,"<>No")) -> 0 | E14: =IF(A14="","",C14-D14) -> 10 | F14: =IF(A14="","",IF(D14>C14,"Over capacity",IF(D14=C14,"Full","")))
A15: 13 | B15: Round | C15: 10 | D15: =IF(A15="","",COUNTIFS(Guests!$G$2:$G$501,A15,Guests!$B$2:$B$501,"<>No")) -> 0 | E15: =IF(A15="","",C15-D15) -> 10 | F15: =IF(A15="","",IF(D15>C15,"Over capacity",IF(D15=C15,"Full","")))
A16: 14 | B16: Round | C16: 10 | D16: =IF(A16="","",COUNTIFS(Guests!$G$2:$G$501,A16,Guests!$B$2:$B$501,"<>No")) -> 0 | E16: =IF(A16="","",C16-D16) -> 10 | F16: =IF(A16="","",IF(D16>C16,"Over capacity",IF(D16=C16,"Full","")))
D17: =IF(A17="","",COUNTIFS(Guests!$G$2:$G$501,A17,Guests!$B$2:$B$501,"<>No")) | E17: =IF(A17="","",C17-D17) | F17: =IF(A17="","",IF(D17>C17,"Over capacity",IF(D17=C17,"Full","")))
D18: =IF(A18="","",COUNTIFS(Guests!$G$2:$G$501,A18,Guests!$B$2:$B$501,"<>No")) | E18: =IF(A18="","",C18-D18) | F18: =IF(A18="","",IF(D18>C18,"Over capacity",IF(D18=C18,"Full","")))
D19: =IF(A19="","",COUNTIFS(Guests!$G$2:$G$501,A19,Guests!$B$2:$B$501,"<>No")) | E19: =IF(A19="","",C19-D19) | F19: =IF(A19="","",IF(D19>C19,"Over capacity",IF(D19=C19,"Full","")))
D20: =IF(A20="","",COUNTIFS(Guests!$G$2:$G$501,A20,Guests!$B$2:$B$501,"<>No")) | E20: =IF(A20="","",C20-D20) | F20: =IF(A20="","",IF(D20>C20,"Over capacity",IF(D20=C20,"Full","")))
D21: =IF(A21="","",COUNTIFS(Guests!$G$2:$G$501,A21,Guests!$B$2:$B$501,"<>No")) | E21: =IF(A21="","",C21-D21) | F21: =IF(A21="","",IF(D21>C21,"Over capacity",IF(D21=C21,"Full","")))
D22: =IF(A22="","",COUNTIFS(Guests!$G$2:$G$501,A22,Guests!$B$2:$B$501,"<>No")) | E22: =IF(A22="","",C22-D22) | F22: =IF(A22="","",IF(D22>C22,"Over capacity",IF(D22=C22,"Full","")))
D23: =IF(A23="","",COUNTIFS(Guests!$G$2:$G$501,A23,Guests!$B$2:$B$501,"<>No")) | E23: =IF(A23="","",C23-D23) | F23: =IF(A23="","",IF(D23>C23,"Over capacity",IF(D23=C23,"Full","")))
D24: =IF(A24="","",COUNTIFS(Guests!$G$2:$G$501,A24,Guests!$B$2:$B$501,"<>No")) | E24: =IF(A24="","",C24-D24) | F24: =IF(A24="","",IF(D24>C24,"Over capacity",IF(D24=C24,"Full","")))
D25: =IF(A25="","",COUNTIFS(Guests!$G$2:$G$501,A25,Guests!$B$2:$B$501,"<>No")) | E25: =IF(A25="","",C25-D25) | F25: =IF(A25="","",IF(D25>C25,"Over capacity",IF(D25=C25,"Full","")))
D26: =IF(A26="","",COUNTIFS(Guests!$G$2:$G$501,A26,Guests!$B$2:$B$501,"<>No")) | E26: =IF(A26="","",C26-D26) | F26: =IF(A26="","",IF(D26>C26,"Over capacity",IF(D26=C26,"Full","")))
D27: =IF(A27="","",COUNTIFS(Guests!$G$2:$G$501,A27,Guests!$B$2:$B$501,"<>No")) | E27: =IF(A27="","",C27-D27) | F27: =IF(A27="","",IF(D27>C27,"Over capacity",IF(D27=C27,"Full","")))
D28: =IF(A28="","",COUNTIFS(Guests!$G$2:$G$501,A28,Guests!$B$2:$B$501,"<>No")) | E28: =IF(A28="","",C28-D28) | F28: =IF(A28="","",IF(D28>C28,"Over capacity",IF(D28=C28,"Full","")))
... D61: =IF(A61="","",COUNTIFS(Guests!$G$2:$G$501,A61,Guests!$B$2:$B$501,"<>No")) | E61: =IF(A61="","",C61-D61) | F61: =IF(A61="","",IF(D61>C61,"Over capacity",IF(D61=C61,"Full","")))

Sheet Menu
A1: Item | B1: Alias | C1: Course | D1: Guests
A2: Herb-roasted chicken | B2: Chicken | C2: Main | D2: =IF(B2="","",COUNTIFS(Guests!$F$2:$F$501,B2,Guests!$B$2:$B$501,"<>No")) -> 2
A3: Braised short rib | B3: Beef | C3: Main | D3: =IF(B3="","",COUNTIFS(Guests!$F$2:$F$501,B3,Guests!$B$2:$B$501,"<>No")) -> 2
A4: Seared salmon | B4: Fish | C4: Main | D4: =IF(B4="","",COUNTIFS(Guests!$F$2:$F$501,B4,Guests!$B$2:$B$501,"<>No")) -> 1
A5: Wild mushroom risotto | B5: Veg | C5: Main | D5: =IF(B5="","",COUNTIFS(Guests!$F$2:$F$501,B5,Guests!$B$2:$B$501,"<>No")) -> 1
A6: Chicken tenders and fries | B6: Kids | C6: Kids | D6: =IF(B6="","",COUNTIFS(Guests!$F$2:$F$501,B6,Guests!$B$2:$B$501,"<>No")) -> 1
D7: =IF(B7="","",COUNTIFS(Guests!$F$2:$F$501,B7,Guests!$B$2:$B$501,"<>No"))
D8: =IF(B8="","",COUNTIFS(Guests!$F$2:$F$501,B8,Guests!$B$2:$B$501,"<>No"))
D9: =IF(B9="","",COUNTIFS(Guests!$F$2:$F$501,B9,Guests!$B$2:$B$501,"<>No"))
A11: Alias is the short code guests choose in the Meal column, as in the SeatPlan.io Menu dialog.

Sheet Kitchen
A1: Table | B1: =IF(Menu!B2="","",Menu!B2) -> Chicken | C1: =IF(Menu!B3="","",Menu!B3) -> Beef | D1: =IF(Menu!B4="","",Menu!B4) -> Fish | E1: =IF(Menu!B5="","",Menu!B5) -> Veg | F1: =IF(Menu!B6="","",Menu!B6) -> Kids | G1: =IF(Menu!B7="","",Menu!B7) | H1: =IF(Menu!B8="","",Menu!B8) | I1: =IF(Menu!B9="","",Menu!B9) | J1: No choice | K1: Nut Allergy | L1: Gluten Free | M1: Dairy Free | N1: Vegan | O1: Vegetarian | P1: Pescatarian | Q1: Halal | R1: Kosher | S1: Guests
A2: =IF(Tables!A2="","",Tables!A2) -> Head Table | B2: =IF(OR($A2="",B$1=""),"",COUNTIFS(Guests!$G$2:$G$501,$A2,Guests!$F$2:$F$501,B$1,Guests!$B$2:$B$501,"<>No")) -> 0 | C2: =IF(OR($A2="",C$1=""),"",COUNTIFS(Guests!$G$2:$G$501,$A2,Guests!$F$2:$F$501,C$1,Guests!$B$2:$B$501,"<>No")) -> 1 | D2: =IF(OR($A2="",D$1=""),"",COUNTIFS(Guests!$G$2:$G$501,$A2,Guests!$F$2:$F$501,D$1,Guests!$B$2:$B$501,"<>No")) -> 1 | E2: =IF(OR($A2="",E$1=""),"",COUNTIFS(Guests!$G$2:$G$501,$A2,Guests!$F$2:$F$501,E$1,Guests!$B$2:$B$501,"<>No")) -> 0 | F2: =IF(OR($A2="",F$1=""),"",COUNTIFS(Guests!$G$2:$G$501,$A2,Guests!$F$2:$F$501,F$1,Guests!$B$2:$B$501,"<>No")) -> 0 | G2: =IF(OR($A2="",G$1=""),"",COUNTIFS(Guests!$G$2:$G$501,$A2,Guests!$F$2:$F$501,G$1,Guests!$B$2:$B$501,"<>No")) | H2: =IF(OR($A2="",H$1=""),"",COUNTIFS(Guests!$G$2:$G$501,$A2,Guests!$F$2:$F$501,H$1,Guests!$B$2:$B$501,"<>No")) | I2: =IF(OR($A2="",I$1=""),"",COUNTIFS(Guests!$G$2:$G$501,$A2,Guests!$F$2:$F$501,I$1,Guests!$B$2:$B$501,"<>No")) | J2: =IF($A2="","",COUNTIFS(Guests!$G$2:$G$501,$A2,Guests!$F$2:$F$501,"",Guests!$B$2:$B$501,"<>No")) -> 0 | K2: =IF($A2="","",COUNTIFS(Guests!$G$2:$G$501,$A2,Guests!$E$2:$E$501,"*Nut Allergy*",Guests!$B$2:$B$501,"<>No")) -> 0 | L2: =IF($A2="","",COUNTIFS(Guests!$G$2:$G$501,$A2,Guests!$E$2:$E$501,"*Gluten Free*",Guests!$B$2:$B$501,"<>No")) -> 0 | M2: =IF($A2="","",COUNTIFS(Guests!$G$2:$G$501,$A2,Guests!$E$2:$E$501,"*Dairy Free*",Guests!$B$2:$B$501,"<>No")) -> 0 | N2: =IF($A2="","",COUNTIFS(Guests!$G$2:$G$501,$A2,Guests!$E$2:$E$501,"*Vegan*",Guests!$B$2:$B$501,"<>No")) -> 0 | O2: =IF($A2="","",COUNTIFS(Guests!$G$2:$G$501,$A2,Guests!$E$2:$E$501,"*Vegetarian*",Guests!$B$2:$B$501,"<>No")) -> 0 | P2: =IF($A2="","",COUNTIFS(Guests!$G$2:$G$501,$A2,Guests!$E$2:$E$501,"*Pescatarian*",Guests!$B$2:$B$501,"<>No")) -> 0 | Q2: =IF($A2="","",COUNTIFS(Guests!$G$2:$G$501,$A2,Guests!$E$2:$E$501,"*Halal*",Guests!$B$2:$B$501,"<>No")) -> 0 | R2: =IF($A2="","",COUNTIFS(Guests!$G$2:$G$501,$A2,Guests!$E$2:$E$501,"*Kosher*",Guests!$B$2:$B$501,"<>No")) -> 0 | S2: =IF($A2="","",COUNTIFS(Guests!$G$2:$G$501,$A2,Guests!$B$2:$B$501,"<>No")) -> 2
A3: =IF(Tables!A3="","",Tables!A3) -> 1 | B3: =IF(OR($A3="",B$1=""),"",COUNTIFS(Guests!$G$2:$G$501,$A3,Guests!$F$2:$F$501,B$1,Guests!$B$2:$B$501,"<>No")) -> 1 | C3: =IF(OR($A3="",C$1=""),"",COUNTIFS(Guests!$G$2:$G$501,$A3,Guests!$F$2:$F$501,C$1,Guests!$B$2:$B$501,"<>No")) -> 1 | D3: =IF(OR($A3="",D$1=""),"",COUNTIFS(Guests!$G$2:$G$501,$A3,Guests!$F$2:$F$501,D$1,Guests!$B$2:$B$501,"<>No")) -> 0 | E3: =IF(OR($A3="",E$1=""),"",COUNTIFS(Guests!$G$2:$G$501,$A3,Guests!$F$2:$F$501,E$1,Guests!$B$2:$B$501,"<>No")) -> 0 | F3: =IF(OR($A3="",F$1=""),"",COUNTIFS(Guests!$G$2:$G$501,$A3,Guests!$F$2:$F$501,F$1,Guests!$B$2:$B$501,"<>No")) -> 0 | G3: =IF(OR($A3="",G$1=""),"",COUNTIFS(Guests!$G$2:$G$501,$A3,Guests!$F$2:$F$501,G$1,Guests!$B$2:$B$501,"<>No")) | H3: =IF(OR($A3="",H$1=""),"",COUNTIFS(Guests!$G$2:$G$501,$A3,Guests!$F$2:$F$501,H$1,Guests!$B$2:$B$501,"<>No")) | I3: =IF(OR($A3="",I$1=""),"",COUNTIFS(Guests!$G$2:$G$501,$A3,Guests!$F$2:$F$501,I$1,Guests!$B$2:$B$501,"<>No")) | J3: =IF($A3="","",COUNTIFS(Guests!$G$2:$G$501,$A3,Guests!$F$2:$F$501,"",Guests!$B$2:$B$501,"<>No")) -> 0 | K3: =IF($A3="","",COUNTIFS(Guests!$G$2:$G$501,$A3,Guests!$E$2:$E$501,"*Nut Allergy*",Guests!$B$2:$B$501,"<>No")) -> 0 | L3: =IF($A3="","",COUNTIFS(Guests!$G$2:$G$501,$A3,Guests!$E$2:$E$501,"*Gluten Free*",Guests!$B$2:$B$501,"<>No")) -> 1 | M3: =IF($A3="","",COUNTIFS(Guests!$G$2:$G$501,$A3,Guests!$E$2:$E$501,"*Dairy Free*",Guests!$B$2:$B$501,"<>No")) -> 0 | N3: =IF($A3="","",COUNTIFS(Guests!$G$2:$G$501,$A3,Guests!$E$2:$E$501,"*Vegan*",Guests!$B$2:$B$501,"<>No")) -> 0 | O3: =IF($A3="","",COUNTIFS(Guests!$G$2:$G$501,$A3,Guests!$E$2:$E$501,"*Vegetarian*",Guests!$B$2:$B$501,"<>No")) -> 0 | P3: =IF($A3="","",COUNTIFS(Guests!$G$2:$G$501,$A3,Guests!$E$2:$E$501,"*Pescatarian*",Guests!$B$2:$B$501,"<>No")) -> 0 | Q3: =IF($A3="","",COUNTIFS(Guests!$G$2:$G$501,$A3,Guests!$E$2:$E$501,"*Halal*",Guests!$B$2:$B$501,"<>No")) -> 0 | R3: =IF($A3="","",COUNTIFS(Guests!$G$2:$G$501,$A3,Guests!$E$2:$E$501,"*Kosher*",Guests!$B$2:$B$501,"<>No")) -> 0 | S3: =IF($A3="","",COUNTIFS(Guests!$G$2:$G$501,$A3,Guests!$B$2:$B$501,"<>No")) -> 2
A4: =IF(Tables!A4="","",Tables!A4) -> 2 | B4: =IF(OR($A4="",B$1=""),"",COUNTIFS(Guests!$G$2:$G$501,$A4,Guests!$F$2:$F$501,B$1,Guests!$B$2:$B$501,"<>No")) -> 0 | C4: =IF(OR($A4="",C$1=""),"",COUNTIFS(Guests!$G$2:$G$501,$A4,Guests!$F$2:$F$501,C$1,Guests!$B$2:$B$501,"<>No")) -> 0 | D4: =IF(OR($A4="",D$1=""),"",COUNTIFS(Guests!$G$2:$G$501,$A4,Guests!$F$2:$F$501,D$1,Guests!$B$2:$B$501,"<>No")) -> 0 | E4: =IF(OR($A4="",E$1=""),"",COUNTIFS(Guests!$G$2:$G$501,$A4,Guests!$F$2:$F$501,E$1,Guests!$B$2:$B$501,"<>No")) -> 1 | F4: =IF(OR($A4="",F$1=""),"",COUNTIFS(Guests!$G$2:$G$501,$A4,Guests!$F$2:$F$501,F$1,Guests!$B$2:$B$501,"<>No")) -> 0 | G4: =IF(OR($A4="",G$1=""),"",COUNTIFS(Guests!$G$2:$G$501,$A4,Guests!$F$2:$F$501,G$1,Guests!$B$2:$B$501,"<>No")) | H4: =IF(OR($A4="",H$1=""),"",COUNTIFS(Guests!$G$2:$G$501,$A4,Guests!$F$2:$F$501,H$1,Guests!$B$2:$B$501,"<>No")) | I4: =IF(OR($A4="",I$1=""),"",COUNTIFS(Guests!$G$2:$G$501,$A4,Guests!$F$2:$F$501,I$1,Guests!$B$2:$B$501,"<>No")) | J4: =IF($A4="","",COUNTIFS(Guests!$G$2:$G$501,$A4,Guests!$F$2:$F$501,"",Guests!$B$2:$B$501,"<>No")) -> 0 | K4: =IF($A4="","",COUNTIFS(Guests!$G$2:$G$501,$A4,Guests!$E$2:$E$501,"*Nut Allergy*",Guests!$B$2:$B$501,"<>No")) -> 0 | L4: =IF($A4="","",COUNTIFS(Guests!$G$2:$G$501,$A4,Guests!$E$2:$E$501,"*Gluten Free*",Guests!$B$2:$B$501,"<>No")) -> 0 | M4: =IF($A4="","",COUNTIFS(Guests!$G$2:$G$501,$A4,Guests!$E$2:$E$501,"*Dairy Free*",Guests!$B$2:$B$501,"<>No")) -> 0 | N4: =IF($A4="","",COUNTIFS(Guests!$G$2:$G$501,$A4,Guests!$E$2:$E$501,"*Vegan*",Guests!$B$2:$B$501,"<>No")) -> 0 | O4: =IF($A4="","",COUNTIFS(Guests!$G$2:$G$501,$A4,Guests!$E$2:$E$501,"*Vegetarian*",Guests!$B$2:$B$501,"<>No")) -> 1 | P4: =IF($A4="","",COUNTIFS(Guests!$G$2:$G$501,$A4,Guests!$E$2:$E$501,"*Pescatarian*",Guests!$B$2:$B$501,"<>No")) -> 0 | Q4: =IF($A4="","",COUNTIFS(Guests!$G$2:$G$501,$A4,Guests!$E$2:$E$501,"*Halal*",Guests!$B$2:$B$501,"<>No")) -> 0 | R4: =IF($A4="","",COUNTIFS(Guests!$G$2:$G$501,$A4,Guests!$E$2:$E$501,"*Kosher*",Guests!$B$2:$B$501,"<>No")) -> 0 | S4: =IF($A4="","",COUNTIFS(Guests!$G$2:$G$501,$A4,Guests!$B$2:$B$501,"<>No")) -> 1
A5: =IF(Tables!A5="","",Tables!A5) -> 3 | B5: =IF(OR($A5="",B$1=""),"",COUNTIFS(Guests!$G$2:$G$501,$A5,Guests!$F$2:$F$501,B$1,Guests!$B$2:$B$501,"<>No")) -> 1 | C5: =IF(OR($A5="",C$1=""),"",COUNTIFS(Guests!$G$2:$G$501,$A5,Guests!$F$2:$F$501,C$1,Guests!$B$2:$B$501,"<>No")) -> 0 | D5: =IF(OR($A5="",D$1=""),"",COUNTIFS(Guests!$G$2:$G$501,$A5,Guests!$F$2:$F$501,D$1,Guests!$B$2:$B$501,"<>No")) -> 0 | E5: =IF(OR($A5="",E$1=""),"",COUNTIFS(Guests!$G$2:$G$501,$A5,Guests!$F$2:$F$501,E$1,Guests!$B$2:$B$501,"<>No")) -> 0 | F5: =IF(OR($A5="",F$1=""),"",COUNTIFS(Guests!$G$2:$G$501,$A5,Guests!$F$2:$F$501,F$1,Guests!$B$2:$B$501,"<>No")) -> 1 | G5: =IF(OR($A5="",G$1=""),"",COUNTIFS(Guests!$G$2:$G$501,$A5,Guests!$F$2:$F$501,G$1,Guests!$B$2:$B$501,"<>No")) | H5: =IF(OR($A5="",H$1=""),"",COUNTIFS(Guests!$G$2:$G$501,$A5,Guests!$F$2:$F$501,H$1,Guests!$B$2:$B$501,"<>No")) | I5: =IF(OR($A5="",I$1=""),"",COUNTIFS(Guests!$G$2:$G$501,$A5,Guests!$F$2:$F$501,I$1,Guests!$B$2:$B$501,"<>No")) | J5: =IF($A5="","",COUNTIFS(Guests!$G$2:$G$501,$A5,Guests!$F$2:$F$501,"",Guests!$B$2:$B$501,"<>No")) -> 0 | K5: =IF($A5="","",COUNTIFS(Guests!$G$2:$G$501,$A5,Guests!$E$2:$E$501,"*Nut Allergy*",Guests!$B$2:$B$501,"<>No")) -> 1 | L5: =IF($A5="","",COUNTIFS(Guests!$G$2:$G$501,$A5,Guests!$E$2:$E$501,"*Gluten Free*",Guests!$B$2:$B$501,"<>No")) -> 0 | M5: =IF($A5="","",COUNTIFS(Guests!$G$2:$G$501,$A5,Guests!$E$2:$E$501,"*Dairy Free*",Guests!$B$2:$B$501,"<>No")) -> 0 | N5: =IF($A5="","",COUNTIFS(Guests!$G$2:$G$501,$A5,Guests!$E$2:$E$501,"*Vegan*",Guests!$B$2:$B$501,"<>No")) -> 0 | O5: =IF($A5="","",COUNTIFS(Guests!$G$2:$G$501,$A5,Guests!$E$2:$E$501,"*Vegetarian*",Guests!$B$2:$B$501,"<>No")) -> 0 | P5: =IF($A5="","",COUNTIFS(Guests!$G$2:$G$501,$A5,Guests!$E$2:$E$501,"*Pescatarian*",Guests!$B$2:$B$501,"<>No")) -> 0 | Q5: =IF($A5="","",COUNTIFS(Guests!$G$2:$G$501,$A5,Guests!$E$2:$E$501,"*Halal*",Guests!$B$2:$B$501,"<>No")) -> 0 | R5: =IF($A5="","",COUNTIFS(Guests!$G$2:$G$501,$A5,Guests!$E$2:$E$501,"*Kosher*",Guests!$B$2:$B$501,"<>No")) -> 0 | S5: =IF($A5="","",COUNTIFS(Guests!$G$2:$G$501,$A5,Guests!$B$2:$B$501,"<>No")) -> 2
A6: =IF(Tables!A6="","",Tables!A6) -> 4 | B6: =IF(OR($A6="",B$1=""),"",COUNTIFS(Guests!$G$2:$G$501,$A6,Guests!$F$2:$F$501,B$1,Guests!$B$2:$B$501,"<>No")) -> 0 | C6: =IF(OR($A6="",C$1=""),"",COUNTIFS(Guests!$G$2:$G$501,$A6,Guests!$F$2:$F$501,C$1,Guests!$B$2:$B$501,"<>No")) -> 0 | D6: =IF(OR($A6="",D$1=""),"",COUNTIFS(Guests!$G$2:$G$501,$A6,Guests!$F$2:$F$501,D$1,Guests!$B$2:$B$501,"<>No")) -> 0 | E6: =IF(OR($A6="",E$1=""),"",COUNTIFS(Guests!$G$2:$G$501,$A6,Guests!$F$2:$F$501,E$1,Guests!$B$2:$B$501,"<>No")) -> 0 | F6: =IF(OR($A6="",F$1=""),"",COUNTIFS(Guests!$G$2:$G$501,$A6,Guests!$F$2:$F$501,F$1,Guests!$B$2:$B$501,"<>No")) -> 0 | G6: =IF(OR($A6="",G$1=""),"",COUNTIFS(Guests!$G$2:$G$501,$A6,Guests!$F$2:$F$501,G$1,Guests!$B$2:$B$501,"<>No")) | H6: =IF(OR($A6="",H$1=""),"",COUNTIFS(Guests!$G$2:$G$501,$A6,Guests!$F$2:$F$501,H$1,Guests!$B$2:$B$501,"<>No")) | I6: =IF(OR($A6="",I$1=""),"",COUNTIFS(Guests!$G$2:$G$501,$A6,Guests!$F$2:$F$501,I$1,Guests!$B$2:$B$501,"<>No")) | J6: =IF($A6="","",COUNTIFS(Guests!$G$2:$G$501,$A6,Guests!$F$2:$F$501,"",Guests!$B$2:$B$501,"<>No")) -> 0 | K6: =IF($A6="","",COUNTIFS(Guests!$G$2:$G$501,$A6,Guests!$E$2:$E$501,"*Nut Allergy*",Guests!$B$2:$B$501,"<>No")) -> 0 | L6: =IF($A6="","",COUNTIFS(Guests!$G$2:$G$501,$A6,Guests!$E$2:$E$501,"*Gluten Free*",Guests!$B$2:$B$501,"<>No")) -> 0 | M6: =IF($A6="","",COUNTIFS(Guests!$G$2:$G$501,$A6,Guests!$E$2:$E$501,"*Dairy Free*",Guests!$B$2:$B$501,"<>No")) -> 0 | N6: =IF($A6="","",COUNTIFS(Guests!$G$2:$G$501,$A6,Guests!$E$2:$E$501,"*Vegan*",Guests!$B$2:$B$501,"<>No")) -> 0 | O6: =IF($A6="","",COUNTIFS(Guests!$G$2:$G$501,$A6,Guests!$E$2:$E$501,"*Vegetarian*",Guests!$B$2:$B$501,"<>No")) -> 0 | P6: =IF($A6="","",COUNTIFS(Guests!$G$2:$G$501,$A6,Guests!$E$2:$E$501,"*Pescatarian*",Guests!$B$2:$B$501,"<>No")) -> 0 | Q6: =IF($A6="","",COUNTIFS(Guests!$G$2:$G$501,$A6,Guests!$E$2:$E$501,"*Halal*",Guests!$B$2:$B$501,"<>No")) -> 0 | R6: =IF($A6="","",COUNTIFS(Guests!$G$2:$G$501,$A6,Guests!$E$2:$E$501,"*Kosher*",Guests!$B$2:$B$501,"<>No")) -> 0 | S6: =IF($A6="","",COUNTIFS(Guests!$G$2:$G$501,$A6,Guests!$B$2:$B$501,"<>No")) -> 0
A7: =IF(Tables!A7="","",Tables!A7) -> 5 | B7: =IF(OR($A7="",B$1=""),"",COUNTIFS(Guests!$G$2:$G$501,$A7,Guests!$F$2:$F$501,B$1,Guests!$B$2:$B$501,"<>No")) -> 0 | C7: =IF(OR($A7="",C$1=""),"",COUNTIFS(Guests!$G$2:$G$501,$A7,Guests!$F$2:$F$501,C$1,Guests!$B$2:$B$501,"<>No")) -> 0 | D7: =IF(OR($A7="",D$1=""),"",COUNTIFS(Guests!$G$2:$G$501,$A7,Guests!$F$2:$F$501,D$1,Guests!$B$2:$B$501,"<>No")) -> 0 | E7: =IF(OR($A7="",E$1=""),"",COUNTIFS(Guests!$G$2:$G$501,$A7,Guests!$F$2:$F$501,E$1,Guests!$B$2:$B$501,"<>No")) -> 0 | F7: =IF(OR($A7="",F$1=""),"",COUNTIFS(Guests!$G$2:$G$501,$A7,Guests!$F$2:$F$501,F$1,Guests!$B$2:$B$501,"<>No")) -> 0 | G7: =IF(OR($A7="",G$1=""),"",COUNTIFS(Guests!$G$2:$G$501,$A7,Guests!$F$2:$F$501,G$1,Guests!$B$2:$B$501,"<>No")) | H7: =IF(OR($A7="",H$1=""),"",COUNTIFS(Guests!$G$2:$G$501,$A7,Guests!$F$2:$F$501,H$1,Guests!$B$2:$B$501,"<>No")) | I7: =IF(OR($A7="",I$1=""),"",COUNTIFS(Guests!$G$2:$G$501,$A7,Guests!$F$2:$F$501,I$1,Guests!$B$2:$B$501,"<>No")) | J7: =IF($A7="","",COUNTIFS(Guests!$G$2:$G$501,$A7,Guests!$F$2:$F$501,"",Guests!$B$2:$B$501,"<>No")) -> 0 | K7: =IF($A7="","",COUNTIFS(Guests!$G$2:$G$501,$A7,Guests!$E$2:$E$501,"*Nut Allergy*",Guests!$B$2:$B$501,"<>No")) -> 0 | L7: =IF($A7="","",COUNTIFS(Guests!$G$2:$G$501,$A7,Guests!$E$2:$E$501,"*Gluten Free*",Guests!$B$2:$B$501,"<>No")) -> 0 | M7: =IF($A7="","",COUNTIFS(Guests!$G$2:$G$501,$A7,Guests!$E$2:$E$501,"*Dairy Free*",Guests!$B$2:$B$501,"<>No")) -> 0 | N7: =IF($A7="","",COUNTIFS(Guests!$G$2:$G$501,$A7,Guests!$E$2:$E$501,"*Vegan*",Guests!$B$2:$B$501,"<>No")) -> 0 | O7: =IF($A7="","",COUNTIFS(Guests!$G$2:$G$501,$A7,Guests!$E$2:$E$501,"*Vegetarian*",Guests!$B$2:$B$501,"<>No")) -> 0 | P7: =IF($A7="","",COUNTIFS(Guests!$G$2:$G$501,$A7,Guests!$E$2:$E$501,"*Pescatarian*",Guests!$B$2:$B$501,"<>No")) -> 0 | Q7: =IF($A7="","",COUNTIFS(Guests!$G$2:$G$501,$A7,Guests!$E$2:$E$501,"*Halal*",Guests!$B$2:$B$501,"<>No")) -> 0 | R7: =IF($A7="","",COUNTIFS(Guests!$G$2:$G$501,$A7,Guests!$E$2:$E$501,"*Kosher*",Guests!$B$2:$B$501,"<>No")) -> 0 | S7: =IF($A7="","",COUNTIFS(Guests!$G$2:$G$501,$A7,Guests!$B$2:$B$501,"<>No")) -> 0
A8: =IF(Tables!A8="","",Tables!A8) -> 6 | B8: =IF(OR($A8="",B$1=""),"",COUNTIFS(Guests!$G$2:$G$501,$A8,Guests!$F$2:$F$501,B$1,Guests!$B$2:$B$501,"<>No")) -> 0 | C8: =IF(OR($A8="",C$1=""),"",COUNTIFS(Guests!$G$2:$G$501,$A8,Guests!$F$2:$F$501,C$1,Guests!$B$2:$B$501,"<>No")) -> 0 | D8: =IF(OR($A8="",D$1=""),"",COUNTIFS(Guests!$G$2:$G$501,$A8,Guests!$F$2:$F$501,D$1,Guests!$B$2:$B$501,"<>No")) -> 0 | E8: =IF(OR($A8="",E$1=""),"",COUNTIFS(Guests!$G$2:$G$501,$A8,Guests!$F$2:$F$501,E$1,Guests!$B$2:$B$501,"<>No")) -> 0 | F8: =IF(OR($A8="",F$1=""),"",COUNTIFS(Guests!$G$2:$G$501,$A8,Guests!$F$2:$F$501,F$1,Guests!$B$2:$B$501,"<>No")) -> 0 | G8: =IF(OR($A8="",G$1=""),"",COUNTIFS(Guests!$G$2:$G$501,$A8,Guests!$F$2:$F$501,G$1,Guests!$B$2:$B$501,"<>No")) | H8: =IF(OR($A8="",H$1=""),"",COUNTIFS(Guests!$G$2:$G$501,$A8,Guests!$F$2:$F$501,H$1,Guests!$B$2:$B$501,"<>No")) | I8: =IF(OR($A8="",I$1=""),"",COUNTIFS(Guests!$G$2:$G$501,$A8,Guests!$F$2:$F$501,I$1,Guests!$B$2:$B$501,"<>No")) | J8: =IF($A8="","",COUNTIFS(Guests!$G$2:$G$501,$A8,Guests!$F$2:$F$501,"",Guests!$B$2:$B$501,"<>No")) -> 0 | K8: =IF($A8="","",COUNTIFS(Guests!$G$2:$G$501,$A8,Guests!$E$2:$E$501,"*Nut Allergy*",Guests!$B$2:$B$501,"<>No")) -> 0 | L8: =IF($A8="","",COUNTIFS(Guests!$G$2:$G$501,$A8,Guests!$E$2:$E$501,"*Gluten Free*",Guests!$B$2:$B$501,"<>No")) -> 0 | M8: =IF($A8="","",COUNTIFS(Guests!$G$2:$G$501,$A8,Guests!$E$2:$E$501,"*Dairy Free*",Guests!$B$2:$B$501,"<>No")) -> 0 | N8: =IF($A8="","",COUNTIFS(Guests!$G$2:$G$501,$A8,Guests!$E$2:$E$501,"*Vegan*",Guests!$B$2:$B$501,"<>No")) -> 0 | O8: =IF($A8="","",COUNTIFS(Guests!$G$2:$G$501,$A8,Guests!$E$2:$E$501,"*Vegetarian*",Guests!$B$2:$B$501,"<>No")) -> 0 | P8: =IF($A8="","",COUNTIFS(Guests!$G$2:$G$501,$A8,Guests!$E$2:$E$501,"*Pescatarian*",Guests!$B$2:$B$501,"<>No")) -> 0 | Q8: =IF($A8="","",COUNTIFS(Guests!$G$2:$G$501,$A8,Guests!$E$2:$E$501,"*Halal*",Guests!$B$2:$B$501,"<>No")) -> 0 | R8: =IF($A8="","",COUNTIFS(Guests!$G$2:$G$501,$A8,Guests!$E$2:$E$501,"*Kosher*",Guests!$B$2:$B$501,"<>No")) -> 0 | S8: =IF($A8="","",COUNTIFS(Guests!$G$2:$G$501,$A8,Guests!$B$2:$B$501,"<>No")) -> 0
A9: =IF(Tables!A9="","",Tables!A9) -> 7 | B9: =IF(OR($A9="",B$1=""),"",COUNTIFS(Guests!$G$2:$G$501,$A9,Guests!$F$2:$F$501,B$1,Guests!$B$2:$B$501,"<>No")) -> 0 | C9: =IF(OR($A9="",C$1=""),"",COUNTIFS(Guests!$G$2:$G$501,$A9,Guests!$F$2:$F$501,C$1,Guests!$B$2:$B$501,"<>No")) -> 0 | D9: =IF(OR($A9="",D$1=""),"",COUNTIFS(Guests!$G$2:$G$501,$A9,Guests!$F$2:$F$501,D$1,Guests!$B$2:$B$501,"<>No")) -> 0 | E9: =IF(OR($A9="",E$1=""),"",COUNTIFS(Guests!$G$2:$G$501,$A9,Guests!$F$2:$F$501,E$1,Guests!$B$2:$B$501,"<>No")) -> 0 | F9: =IF(OR($A9="",F$1=""),"",COUNTIFS(Guests!$G$2:$G$501,$A9,Guests!$F$2:$F$501,F$1,Guests!$B$2:$B$501,"<>No")) -> 0 | G9: =IF(OR($A9="",G$1=""),"",COUNTIFS(Guests!$G$2:$G$501,$A9,Guests!$F$2:$F$501,G$1,Guests!$B$2:$B$501,"<>No")) | H9: =IF(OR($A9="",H$1=""),"",COUNTIFS(Guests!$G$2:$G$501,$A9,Guests!$F$2:$F$501,H$1,Guests!$B$2:$B$501,"<>No")) | I9: =IF(OR($A9="",I$1=""),"",COUNTIFS(Guests!$G$2:$G$501,$A9,Guests!$F$2:$F$501,I$1,Guests!$B$2:$B$501,"<>No")) | J9: =IF($A9="","",COUNTIFS(Guests!$G$2:$G$501,$A9,Guests!$F$2:$F$501,"",Guests!$B$2:$B$501,"<>No")) -> 0 | K9: =IF($A9="","",COUNTIFS(Guests!$G$2:$G$501,$A9,Guests!$E$2:$E$501,"*Nut Allergy*",Guests!$B$2:$B$501,"<>No")) -> 0 | L9: =IF($A9="","",COUNTIFS(Guests!$G$2:$G$501,$A9,Guests!$E$2:$E$501,"*Gluten Free*",Guests!$B$2:$B$501,"<>No")) -> 0 | M9: =IF($A9="","",COUNTIFS(Guests!$G$2:$G$501,$A9,Guests!$E$2:$E$501,"*Dairy Free*",Guests!$B$2:$B$501,"<>No")) -> 0 | N9: =IF($A9="","",COUNTIFS(Guests!$G$2:$G$501,$A9,Guests!$E$2:$E$501,"*Vegan*",Guests!$B$2:$B$501,"<>No")) -> 0 | O9: =IF($A9="","",COUNTIFS(Guests!$G$2:$G$501,$A9,Guests!$E$2:$E$501,"*Vegetarian*",Guests!$B$2:$B$501,"<>No")) -> 0 | P9: =IF($A9="","",COUNTIFS(Guests!$G$2:$G$501,$A9,Guests!$E$2:$E$501,"*Pescatarian*",Guests!$B$2:$B$501,"<>No")) -> 0 | Q9: =IF($A9="","",COUNTIFS(Guests!$G$2:$G$501,$A9,Guests!$E$2:$E$501,"*Halal*",Guests!$B$2:$B$501,"<>No")) -> 0 | R9: =IF($A9="","",COUNTIFS(Guests!$G$2:$G$501,$A9,Guests!$E$2:$E$501,"*Kosher*",Guests!$B$2:$B$501,"<>No")) -> 0 | S9: =IF($A9="","",COUNTIFS(Guests!$G$2:$G$501,$A9,Guests!$B$2:$B$501,"<>No")) -> 0
A10: =IF(Tables!A10="","",Tables!A10) -> 8 | B10: =IF(OR($A10="",B$1=""),"",COUNTIFS(Guests!$G$2:$G$501,$A10,Guests!$F$2:$F$501,B$1,Guests!$B$2:$B$501,"<>No")) -> 0 | C10: =IF(OR($A10="",C$1=""),"",COUNTIFS(Guests!$G$2:$G$501,$A10,Guests!$F$2:$F$501,C$1,Guests!$B$2:$B$501,"<>No")) -> 0 | D10: =IF(OR($A10="",D$1=""),"",COUNTIFS(Guests!$G$2:$G$501,$A10,Guests!$F$2:$F$501,D$1,Guests!$B$2:$B$501,"<>No")) -> 0 | E10: =IF(OR($A10="",E$1=""),"",COUNTIFS(Guests!$G$2:$G$501,$A10,Guests!$F$2:$F$501,E$1,Guests!$B$2:$B$501,"<>No")) -> 0 | F10: =IF(OR($A10="",F$1=""),"",COUNTIFS(Guests!$G$2:$G$501,$A10,Guests!$F$2:$F$501,F$1,Guests!$B$2:$B$501,"<>No")) -> 0 | G10: =IF(OR($A10="",G$1=""),"",COUNTIFS(Guests!$G$2:$G$501,$A10,Guests!$F$2:$F$501,G$1,Guests!$B$2:$B$501,"<>No")) | H10: =IF(OR($A10="",H$1=""),"",COUNTIFS(Guests!$G$2:$G$501,$A10,Guests!$F$2:$F$501,H$1,Guests!$B$2:$B$501,"<>No")) | I10: =IF(OR($A10="",I$1=""),"",COUNTIFS(Guests!$G$2:$G$501,$A10,Guests!$F$2:$F$501,I$1,Guests!$B$2:$B$501,"<>No")) | J10: =IF($A10="","",COUNTIFS(Guests!$G$2:$G$501,$A10,Guests!$F$2:$F$501,"",Guests!$B$2:$B$501,"<>No")) -> 0 | K10: =IF($A10="","",COUNTIFS(Guests!$G$2:$G$501,$A10,Guests!$E$2:$E$501,"*Nut Allergy*",Guests!$B$2:$B$501,"<>No")) -> 0 | L10: =IF($A10="","",COUNTIFS(Guests!$G$2:$G$501,$A10,Guests!$E$2:$E$501,"*Gluten Free*",Guests!$B$2:$B$501,"<>No")) -> 0 | M10: =IF($A10="","",COUNTIFS(Guests!$G$2:$G$501,$A10,Guests!$E$2:$E$501,"*Dairy Free*",Guests!$B$2:$B$501,"<>No")) -> 0 | N10: =IF($A10="","",COUNTIFS(Guests!$G$2:$G$501,$A10,Guests!$E$2:$E$501,"*Vegan*",Guests!$B$2:$B$501,"<>No")) -> 0 | O10: =IF($A10="","",COUNTIFS(Guests!$G$2:$G$501,$A10,Guests!$E$2:$E$501,"*Vegetarian*",Guests!$B$2:$B$501,"<>No")) -> 0 | P10: =IF($A10="","",COUNTIFS(Guests!$G$2:$G$501,$A10,Guests!$E$2:$E$501,"*Pescatarian*",Guests!$B$2:$B$501,"<>No")) -> 0 | Q10: =IF($A10="","",COUNTIFS(Guests!$G$2:$G$501,$A10,Guests!$E$2:$E$501,"*Halal*",Guests!$B$2:$B$501,"<>No")) -> 0 | R10: =IF($A10="","",COUNTIFS(Guests!$G$2:$G$501,$A10,Guests!$E$2:$E$501,"*Kosher*",Guests!$B$2:$B$501,"<>No")) -> 0 | S10: =IF($A10="","",COUNTIFS(Guests!$G$2:$G$501,$A10,Guests!$B$2:$B$501,"<>No")) -> 0
A11: =IF(Tables!A11="","",Tables!A11) -> 9 | B11: =IF(OR($A11="",B$1=""),"",COUNTIFS(Guests!$G$2:$G$501,$A11,Guests!$F$2:$F$501,B$1,Guests!$B$2:$B$501,"<>No")) -> 0 | C11: =IF(OR($A11="",C$1=""),"",COUNTIFS(Guests!$G$2:$G$501,$A11,Guests!$F$2:$F$501,C$1,Guests!$B$2:$B$501,"<>No")) -> 0 | D11: =IF(OR($A11="",D$1=""),"",COUNTIFS(Guests!$G$2:$G$501,$A11,Guests!$F$2:$F$501,D$1,Guests!$B$2:$B$501,"<>No")) -> 0 | E11: =IF(OR($A11="",E$1=""),"",COUNTIFS(Guests!$G$2:$G$501,$A11,Guests!$F$2:$F$501,E$1,Guests!$B$2:$B$501,"<>No")) -> 0 | F11: =IF(OR($A11="",F$1=""),"",COUNTIFS(Guests!$G$2:$G$501,$A11,Guests!$F$2:$F$501,F$1,Guests!$B$2:$B$501,"<>No")) -> 0 | G11: =IF(OR($A11="",G$1=""),"",COUNTIFS(Guests!$G$2:$G$501,$A11,Guests!$F$2:$F$501,G$1,Guests!$B$2:$B$501,"<>No")) | H11: =IF(OR($A11="",H$1=""),"",COUNTIFS(Guests!$G$2:$G$501,$A11,Guests!$F$2:$F$501,H$1,Guests!$B$2:$B$501,"<>No")) | I11: =IF(OR($A11="",I$1=""),"",COUNTIFS(Guests!$G$2:$G$501,$A11,Guests!$F$2:$F$501,I$1,Guests!$B$2:$B$501,"<>No")) | J11: =IF($A11="","",COUNTIFS(Guests!$G$2:$G$501,$A11,Guests!$F$2:$F$501,"",Guests!$B$2:$B$501,"<>No")) -> 0 | K11: =IF($A11="","",COUNTIFS(Guests!$G$2:$G$501,$A11,Guests!$E$2:$E$501,"*Nut Allergy*",Guests!$B$2:$B$501,"<>No")) -> 0 | L11: =IF($A11="","",COUNTIFS(Guests!$G$2:$G$501,$A11,Guests!$E$2:$E$501,"*Gluten Free*",Guests!$B$2:$B$501,"<>No")) -> 0 | M11: =IF($A11="","",COUNTIFS(Guests!$G$2:$G$501,$A11,Guests!$E$2:$E$501,"*Dairy Free*",Guests!$B$2:$B$501,"<>No")) -> 0 | N11: =IF($A11="","",COUNTIFS(Guests!$G$2:$G$501,$A11,Guests!$E$2:$E$501,"*Vegan*",Guests!$B$2:$B$501,"<>No")) -> 0 | O11: =IF($A11="","",COUNTIFS(Guests!$G$2:$G$501,$A11,Guests!$E$2:$E$501,"*Vegetarian*",Guests!$B$2:$B$501,"<>No")) -> 0 | P11: =IF($A11="","",COUNTIFS(Guests!$G$2:$G$501,$A11,Guests!$E$2:$E$501,"*Pescatarian*",Guests!$B$2:$B$501,"<>No")) -> 0 | Q11: =IF($A11="","",COUNTIFS(Guests!$G$2:$G$501,$A11,Guests!$E$2:$E$501,"*Halal*",Guests!$B$2:$B$501,"<>No")) -> 0 | R11: =IF($A11="","",COUNTIFS(Guests!$G$2:$G$501,$A11,Guests!$E$2:$E$501,"*Kosher*",Guests!$B$2:$B$501,"<>No")) -> 0 | S11: =IF($A11="","",COUNTIFS(Guests!$G$2:$G$501,$A11,Guests!$B$2:$B$501,"<>No")) -> 0
A12: =IF(Tables!A12="","",Tables!A12) -> 10 | B12: =IF(OR($A12="",B$1=""),"",COUNTIFS(Guests!$G$2:$G$501,$A12,Guests!$F$2:$F$501,B$1,Guests!$B$2:$B$501,"<>No")) -> 0 | C12: =IF(OR($A12="",C$1=""),"",COUNTIFS(Guests!$G$2:$G$501,$A12,Guests!$F$2:$F$501,C$1,Guests!$B$2:$B$501,"<>No")) -> 0 | D12: =IF(OR($A12="",D$1=""),"",COUNTIFS(Guests!$G$2:$G$501,$A12,Guests!$F$2:$F$501,D$1,Guests!$B$2:$B$501,"<>No")) -> 0 | E12: =IF(OR($A12="",E$1=""),"",COUNTIFS(Guests!$G$2:$G$501,$A12,Guests!$F$2:$F$501,E$1,Guests!$B$2:$B$501,"<>No")) -> 0 | F12: =IF(OR($A12="",F$1=""),"",COUNTIFS(Guests!$G$2:$G$501,$A12,Guests!$F$2:$F$501,F$1,Guests!$B$2:$B$501,"<>No")) -> 0 | G12: =IF(OR($A12="",G$1=""),"",COUNTIFS(Guests!$G$2:$G$501,$A12,Guests!$F$2:$F$501,G$1,Guests!$B$2:$B$501,"<>No")) | H12: =IF(OR($A12="",H$1=""),"",COUNTIFS(Guests!$G$2:$G$501,$A12,Guests!$F$2:$F$501,H$1,Guests!$B$2:$B$501,"<>No")) | I12: =IF(OR($A12="",I$1=""),"",COUNTIFS(Guests!$G$2:$G$501,$A12,Guests!$F$2:$F$501,I$1,Guests!$B$2:$B$501,"<>No")) | J12: =IF($A12="","",COUNTIFS(Guests!$G$2:$G$501,$A12,Guests!$F$2:$F$501,"",Guests!$B$2:$B$501,"<>No")) -> 0 | K12: =IF($A12="","",COUNTIFS(Guests!$G$2:$G$501,$A12,Guests!$E$2:$E$501,"*Nut Allergy*",Guests!$B$2:$B$501,"<>No")) -> 0 | L12: =IF($A12="","",COUNTIFS(Guests!$G$2:$G$501,$A12,Guests!$E$2:$E$501,"*Gluten Free*",Guests!$B$2:$B$501,"<>No")) -> 0 | M12: =IF($A12="","",COUNTIFS(Guests!$G$2:$G$501,$A12,Guests!$E$2:$E$501,"*Dairy Free*",Guests!$B$2:$B$501,"<>No")) -> 0 | N12: =IF($A12="","",COUNTIFS(Guests!$G$2:$G$501,$A12,Guests!$E$2:$E$501,"*Vegan*",Guests!$B$2:$B$501,"<>No")) -> 0 | O12: =IF($A12="","",COUNTIFS(Guests!$G$2:$G$501,$A12,Guests!$E$2:$E$501,"*Vegetarian*",Guests!$B$2:$B$501,"<>No")) -> 0 | P12: =IF($A12="","",COUNTIFS(Guests!$G$2:$G$501,$A12,Guests!$E$2:$E$501,"*Pescatarian*",Guests!$B$2:$B$501,"<>No")) -> 0 | Q12: =IF($A12="","",COUNTIFS(Guests!$G$2:$G$501,$A12,Guests!$E$2:$E$501,"*Halal*",Guests!$B$2:$B$501,"<>No")) -> 0 | R12: =IF($A12="","",COUNTIFS(Guests!$G$2:$G$501,$A12,Guests!$E$2:$E$501,"*Kosher*",Guests!$B$2:$B$501,"<>No")) -> 0 | S12: =IF($A12="","",COUNTIFS(Guests!$G$2:$G$501,$A12,Guests!$B$2:$B$501,"<>No")) -> 0
A13: =IF(Tables!A13="","",Tables!A13) -> 11 | B13: =IF(OR($A13="",B$1=""),"",COUNTIFS(Guests!$G$2:$G$501,$A13,Guests!$F$2:$F$501,B$1,Guests!$B$2:$B$501,"<>No")) -> 0 | C13: =IF(OR($A13="",C$1=""),"",COUNTIFS(Guests!$G$2:$G$501,$A13,Guests!$F$2:$F$501,C$1,Guests!$B$2:$B$501,"<>No")) -> 0 | D13: =IF(OR($A13="",D$1=""),"",COUNTIFS(Guests!$G$2:$G$501,$A13,Guests!$F$2:$F$501,D$1,Guests!$B$2:$B$501,"<>No")) -> 0 | E13: =IF(OR($A13="",E$1=""),"",COUNTIFS(Guests!$G$2:$G$501,$A13,Guests!$F$2:$F$501,E$1,Guests!$B$2:$B$501,"<>No")) -> 0 | F13: =IF(OR($A13="",F$1=""),"",COUNTIFS(Guests!$G$2:$G$501,$A13,Guests!$F$2:$F$501,F$1,Guests!$B$2:$B$501,"<>No")) -> 0 | G13: =IF(OR($A13="",G$1=""),"",COUNTIFS(Guests!$G$2:$G$501,$A13,Guests!$F$2:$F$501,G$1,Guests!$B$2:$B$501,"<>No")) | H13: =IF(OR($A13="",H$1=""),"",COUNTIFS(Guests!$G$2:$G$501,$A13,Guests!$F$2:$F$501,H$1,Guests!$B$2:$B$501,"<>No")) | I13: =IF(OR($A13="",I$1=""),"",COUNTIFS(Guests!$G$2:$G$501,$A13,Guests!$F$2:$F$501,I$1,Guests!$B$2:$B$501,"<>No")) | J13: =IF($A13="","",COUNTIFS(Guests!$G$2:$G$501,$A13,Guests!$F$2:$F$501,"",Guests!$B$2:$B$501,"<>No")) -> 0 | K13: =IF($A13="","",COUNTIFS(Guests!$G$2:$G$501,$A13,Guests!$E$2:$E$501,"*Nut Allergy*",Guests!$B$2:$B$501,"<>No")) -> 0 | L13: =IF($A13="","",COUNTIFS(Guests!$G$2:$G$501,$A13,Guests!$E$2:$E$501,"*Gluten Free*",Guests!$B$2:$B$501,"<>No")) -> 0 | M13: =IF($A13="","",COUNTIFS(Guests!$G$2:$G$501,$A13,Guests!$E$2:$E$501,"*Dairy Free*",Guests!$B$2:$B$501,"<>No")) -> 0 | N13: =IF($A13="","",COUNTIFS(Guests!$G$2:$G$501,$A13,Guests!$E$2:$E$501,"*Vegan*",Guests!$B$2:$B$501,"<>No")) -> 0 | O13: =IF($A13="","",COUNTIFS(Guests!$G$2:$G$501,$A13,Guests!$E$2:$E$501,"*Vegetarian*",Guests!$B$2:$B$501,"<>No")) -> 0 | P13: =IF($A13="","",COUNTIFS(Guests!$G$2:$G$501,$A13,Guests!$E$2:$E$501,"*Pescatarian*",Guests!$B$2:$B$501,"<>No")) -> 0 | Q13: =IF($A13="","",COUNTIFS(Guests!$G$2:$G$501,$A13,Guests!$E$2:$E$501,"*Halal*",Guests!$B$2:$B$501,"<>No")) -> 0 | R13: =IF($A13="","",COUNTIFS(Guests!$G$2:$G$501,$A13,Guests!$E$2:$E$501,"*Kosher*",Guests!$B$2:$B$501,"<>No")) -> 0 | S13: =IF($A13="","",COUNTIFS(Guests!$G$2:$G$501,$A13,Guests!$B$2:$B$501,"<>No")) -> 0
... A61: =IF(Tables!A61="","",Tables!A61) | B61: =IF(OR($A61="",B$1=""),"",COUNTIFS(Guests!$G$2:$G$501,$A61,Guests!$F$2:$F$501,B$1,Guests!$B$2:$B$501,"<>No")) | C61: =IF(OR($A61="",C$1=""),"",COUNTIFS(Guests!$G$2:$G$501,$A61,Guests!$F$2:$F$501,C$1,Guests!$B$2:$B$501,"<>No")) | D61: =IF(OR($A61="",D$1=""),"",COUNTIFS(Guests!$G$2:$G$501,$A61,Guests!$F$2:$F$501,D$1,Guests!$B$2:$B$501,"<>No")) | E61: =IF(OR($A61="",E$1=""),"",COUNTIFS(Guests!$G$2:$G$501,$A61,Guests!$F$2:$F$501,E$1,Guests!$B$2:$B$501,"<>No")) | F61: =IF(OR($A61="",F$1=""),"",COUNTIFS(Guests!$G$2:$G$501,$A61,Guests!$F$2:$F$501,F$1,Guests!$B$2:$B$501,"<>No")) | G61: =IF(OR($A61="",G$1=""),"",COUNTIFS(Guests!$G$2:$G$501,$A61,Guests!$F$2:$F$501,G$1,Guests!$B$2:$B$501,"<>No")) | H61: =IF(OR($A61="",H$1=""),"",COUNTIFS(Guests!$G$2:$G$501,$A61,Guests!$F$2:$F$501,H$1,Guests!$B$2:$B$501,"<>No")) | I61: =IF(OR($A61="",I$1=""),"",COUNTIFS(Guests!$G$2:$G$501,$A61,Guests!$F$2:$F$501,I$1,Guests!$B$2:$B$501,"<>No")) | J61: =IF($A61="","",COUNTIFS(Guests!$G$2:$G$501,$A61,Guests!$F$2:$F$501,"",Guests!$B$2:$B$501,"<>No")) | K61: =IF($A61="","",COUNTIFS(Guests!$G$2:$G$501,$A61,Guests!$E$2:$E$501,"*Nut Allergy*",Guests!$B$2:$B$501,"<>No")) | L61: =IF($A61="","",COUNTIFS(Guests!$G$2:$G$501,$A61,Guests!$E$2:$E$501,"*Gluten Free*",Guests!$B$2:$B$501,"<>No")) | M61: =IF($A61="","",COUNTIFS(Guests!$G$2:$G$501,$A61,Guests!$E$2:$E$501,"*Dairy Free*",Guests!$B$2:$B$501,"<>No")) | N61: =IF($A61="","",COUNTIFS(Guests!$G$2:$G$501,$A61,Guests!$E$2:$E$501,"*Vegan*",Guests!$B$2:$B$501,"<>No")) | O61: =IF($A61="","",COUNTIFS(Guests!$G$2:$G$501,$A61,Guests!$E$2:$E$501,"*Vegetarian*",Guests!$B$2:$B$501,"<>No")) | P61: =IF($A61="","",COUNTIFS(Guests!$G$2:$G$501,$A61,Guests!$E$2:$E$501,"*Pescatarian*",Guests!$B$2:$B$501,"<>No")) | Q61: =IF($A61="","",COUNTIFS(Guests!$G$2:$G$501,$A61,Guests!$E$2:$E$501,"*Halal*",Guests!$B$2:$B$501,"<>No")) | R61: =IF($A61="","",COUNTIFS(Guests!$G$2:$G$501,$A61,Guests!$E$2:$E$501,"*Kosher*",Guests!$B$2:$B$501,"<>No")) | S61: =IF($A61="","",COUNTIFS(Guests!$G$2:$G$501,$A61,Guests!$B$2:$B$501,"<>No"))
A62: Total | B62: =SUM(B2:B61) -> 2 | C62: =SUM(C2:C61) -> 2 | D62: =SUM(D2:D61) -> 1 | E62: =SUM(E2:E61) -> 1 | F62: =SUM(F2:F61) -> 1 | G62: =SUM(G2:G61) -> 0 | H62: =SUM(H2:H61) -> 0 | I62: =SUM(I2:I61) -> 0 | ... S62: =SUM(S2:S61) -> 7

Sheet How to use
A1: Wedding seating chart template: Grand Ballroom (130–160 guests)
A2: Its Tables sheet is SeatPlan.io's Grand Ballroom layout: Head Table + 14 round tables · 150 seats.
A4: 1. Replace the sample guests on Guests with your own, one guest per row. Give plus-ones and children their own row.
A5: 2. Mark each RSVP Yes, No or Pending. Guests who say No drop out of every count.
A6: 3. Put your menu on Menu, then pick each guest's Meal. Add dietary needs from the Dietary dropdown.
A7: 4. Pick a Table for each guest and give them a Seat number. A seat used twice turns red.
A8: 5. Tables counts the guests at each table and turns a table red when it is over capacity. Kitchen gives the caterer meals and dietary needs per table.
A10: See it as a floor plan:
A11: - Open the Grand Ballroom layout in the free SeatPlan.io designer: seatplan.io/wedding-seating-chart-template-excel#grand-ballroom-150-guests
A12: - Click Import in the guest list and choose this file. It reads the Guests sheet and keeps each guest's table and seat.
A13: - Click Apply seating. Every guest sits at their table, and from there you drag people and tables around the room.
